BEGIN:VCALENDAR
VERSION:2.0
PRODID:-// - ECPv6.15.20//NONSGML v1.0//EN
CALSCALE:GREGORIAN
METHOD:PUBLISH
X-ORIGINAL-URL:https://mauraknierim.de
X-WR-CALDESC:Veranstaltungen für 
REFRESH-INTERVAL;VALUE=DURATION:PT1H
X-Robots-Tag:noindex
X-PUBLISHED-TTL:PT1H
BEGIN:VTIMEZONE
TZID:Europe/Paris
BEGIN:DAYLIGHT
TZOFFSETFROM:+0100
TZOFFSETTO:+0200
TZNAME:CEST
DTSTART:20250330T010000
END:DAYLIGHT
BEGIN:STANDARD
TZOFFSETFROM:+0200
TZOFFSETTO:+0100
TZNAME:CET
DTSTART:20251026T010000
END:STANDARD
BEGIN:DAYLIGHT
TZOFFSETFROM:+0100
TZOFFSETTO:+0200
TZNAME:CEST
DTSTART:20260329T010000
END:DAYLIGHT
BEGIN:STANDARD
TZOFFSETFROM:+0200
TZOFFSETTO:+0100
TZNAME:CET
DTSTART:20261025T010000
END:STANDARD
BEGIN:DAYLIGHT
TZOFFSETFROM:+0100
TZOFFSETTO:+0200
TZNAME:CEST
DTSTART:20270328T010000
END:DAYLIGHT
BEGIN:STANDARD
TZOFFSETFROM:+0200
TZOFFSETTO:+0100
TZNAME:CET
DTSTART:20271031T010000
END:STANDARD
END:VTIMEZONE
BEGIN:VEVENT
DTSTART;TZID=Europe/Paris:20260510T140000
DTEND;TZID=Europe/Paris:20260510T140000
DTSTAMP:20260420T144344
CREATED:20260222T171727Z
LAST-MODIFIED:20260222T171727Z
UID:1375-1778421600-1778421600@mauraknierim.de
SUMMARY:nouveau pastel - aquamarin en miniatures
DESCRIPTION:nouveau pastel spielen zu Begleitung einer „Schoggi-Degustation“ ihr neues Programm aquamarin en miniatures. Zu hören sind Duowerke für Flöte und Harfe von Ida Gotkovsky\, Maurice Ravel\, Jean Francaix und Michio Miyagi.
URL:https://mauraknierim.de/veranstaltung/nouveau-pastel-aquamarin-en-miniatures/
LOCATION:Aateigi\, Brünigstrasse 142A\, Sarnen\, 6060\, Schweiz
ATTACH;FMTTYPE=image/jpeg:https://mauraknierim.de/wp-content/uploads/2026/01/035A1373.jpg
END:VEVENT
BEGIN:VEVENT
DTSTART;TZID=Europe/Paris:20260523T153000
DTEND;TZID=Europe/Paris:20260523T153000
DTSTAMP:20260420T144344
CREATED:20260406T142208Z
LAST-MODIFIED:20260406T142208Z
UID:1399-1779550200-1779550200@mauraknierim.de
SUMMARY:Wiener Festwochen: Pfingstspiel von Florentine Holzinger
DESCRIPTION:
URL:https://mauraknierim.de/veranstaltung/wiener-festwochen-pfingstspiel-von-florentine-holzinger/
LOCATION:Wiener Eislaufverein
END:VEVENT
BEGIN:VEVENT
DTSTART;TZID=Europe/Paris:20260530T160000
DTEND;TZID=Europe/Paris:20260530T170000
DTSTAMP:20260420T144344
CREATED:20260207T084551Z
LAST-MODIFIED:20260210T064936Z
UID:1338-1780156800-1780160400@mauraknierim.de
SUMMARY:YUMA in der Bela Bartok
DESCRIPTION:Im Duo YUMA spielen Julia Herzog (Blockflöten) und Maura Knierim (keltische Harfe) im Anschluss zu einem Blockflöten-Kurs ein öffentliches Konzert in der Musikschule Bela Bartok. \nJulia und Maura musizieren mit dem Herzen zusammen: das ist ihr Anliegen und auch das Geschenk für ihre Zuhörer*innen! Sie spüren Melodien aus aller Welt auf\, nehmen diese für ihre Improvisationen und weben gemeinsam einen vielfältig bunten Klangteppich. \n 
URL:https://mauraknierim.de/veranstaltung/yumu-in-der-bela-bartok/
LOCATION:Musikschule Bela Bartok\, Senefelderstraße 6\, Berlin\, 10437\, Deutschland
ATTACH;FMTTYPE=image/jpeg:https://mauraknierim.de/wp-content/uploads/2026/01/YUMA2.jpg
END:VEVENT
BEGIN:VEVENT
DTSTART;TZID=Europe/Paris:20260605T200000
DTEND;TZID=Europe/Paris:20260605T200000
DTSTAMP:20260420T144344
CREATED:20260406T143013Z
LAST-MODIFIED:20260406T143013Z
UID:1403-1780689600-1780689600@mauraknierim.de
SUMMARY:Harfe im Duo in der Galerie Gondwana
DESCRIPTION:Harfe im Duo – Liz Fréon und Maura Knierim präsentieren auf Ihren Konzertharfen das Programm Vielsaitig – Klangperspektiven der Harfe mit ausgewählten Duowerken von Maurice Ravel\, Caesar Franck\, Félix Godefroid\, Bernard Andrès und Carlos Salzedo in der Galerie Gondwana. \nEintritt frei\, Spenden erwünscht. \n 
URL:https://mauraknierim.de/veranstaltung/harfe-im-duo-in-der-galerie-gondwana/
LOCATION:Galerie Gondwana\, Merseburger Str. 14\, Berlin\, 10823
END:VEVENT
BEGIN:VEVENT
DTSTART;TZID=Europe/Paris:20260607T160000
DTEND;TZID=Europe/Paris:20260607T160000
DTSTAMP:20260420T144344
CREATED:20260116T110420Z
LAST-MODIFIED:20260205T161157Z
UID:1160-1780848000-1780848000@mauraknierim.de
SUMMARY:Harfe im Duo – Klassik im Grünen
DESCRIPTION:Klassik im Grünen – ein Kulturfest im Land Brandenburg \nKammermusik im Schlosspark Buckow (Märkische Schweiz) \nNur eine Autostunde von Berlin entfernt\, erstreckt sich der Naturpark Märkische Schweiz\, eine Landschaft\, die mit ihren Seen\, Wäldern und Schluchten schon immer die stadtmüden Berliner zu Ausflügen angezogen hat. Im Zentrum befindet sich die idyllisch gelegene Kleinstadt Buckow. Hier gibt es im alten Schlosspark seit vielen Jahren die sommerlichen Konzerte «Klassik im Grünen». Im Schatten großer Laubbäume erklingt erlesene Kammermusik\, die Jung und Alt in gleicher Weise begeistert. In der gelöst heiteren Atmosphäre der Parklandschaft wird auch in diesem Jahr ein abwechslungsreiches Programm mit klassischer Musik geboten: lebendig\, anspruchsvoll und unterhaltsam. \nVor den Konzerten und in der Pause werden bei schönem Wetter Kaffee\, Kuchen und Getränke im Park angeboten. Bei schlechtem Wetter findet die jeweilige Veranstaltung in der evangelischen Stadtkirche statt.
URL:https://mauraknierim.de/veranstaltung/harfe-im-duo-klassik-im-gruenen/
LOCATION:Klassik im Grünen\, Wallstraße 8\, Buckow\, 15377\, Deutschland
ATTACH;FMTTYPE=image/jpeg:https://mauraknierim.de/wp-content/uploads/2025/12/Harfenistinnen-6_DSC9969-scaled.jpg
END:VEVENT
END:VCALENDAR